BEGIN:VCALENDAR
VERSION:2.0
PRODID:-//Sudovia News - wiadomości Suwałki - ECPv6.15.20//NONSGML v1.0//EN
CALSCALE:GREGORIAN
METHOD:PUBLISH
X-WR-CALNAME:Sudovia News - wiadomości Suwałki
X-ORIGINAL-URL:https://sudovianews.pl
X-WR-CALDESC:Wydarzenia dla Sudovia News - wiadomości Suwałki
REFRESH-INTERVAL;VALUE=DURATION:PT1H
X-Robots-Tag:noindex
X-PUBLISHED-TTL:PT1H
BEGIN:VTIMEZONE
TZID:Europe/Warsaw
BEGIN:DAYLIGHT
TZOFFSETFROM:+0100
TZOFFSETTO:+0200
TZNAME:CEST
DTSTART:20250330T010000
END:DAYLIGHT
BEGIN:STANDARD
TZOFFSETFROM:+0200
TZOFFSETTO:+0100
TZNAME:CET
DTSTART:20251026T010000
END:STANDARD
BEGIN:DAYLIGHT
TZOFFSETFROM:+0100
TZOFFSETTO:+0200
TZNAME:CEST
DTSTART:20260329T010000
END:DAYLIGHT
BEGIN:STANDARD
TZOFFSETFROM:+0200
TZOFFSETTO:+0100
TZNAME:CET
DTSTART:20261025T010000
END:STANDARD
BEGIN:DAYLIGHT
TZOFFSETFROM:+0100
TZOFFSETTO:+0200
TZNAME:CEST
DTSTART:20270328T010000
END:DAYLIGHT
BEGIN:STANDARD
TZOFFSETFROM:+0200
TZOFFSETTO:+0100
TZNAME:CET
DTSTART:20271031T010000
END:STANDARD
END:VTIMEZONE
BEGIN:VEVENT
DTSTART;TZID=Europe/Warsaw:20260424T190000
DTEND;TZID=Europe/Warsaw:20260424T220000
DTSTAMP:20260424T054153
CREATED:20260315T094808Z
LAST-MODIFIED:20260315T094808Z
UID:13835-1777057200-1777068000@sudovianews.pl
SUMMARY:Rozgrzewka SBF. Koncert pamięci Tadeusza Nalepy. Dreszcz Blues Band i Suwalska Orkiestra Kameralna
DESCRIPTION:Już 24 kwietnia zapraszamy na wyjątkowe wydarzenie – Rozgrzewkę SBF\, poświęconą pamięci legendarnego twórcy polskiego bluesa – Tadeusza Nalepy 🎸🔥 \nPodczas wieczoru usłyszymy największe utwory Tadeusza Nalepy oraz Miry Kubasińskiej w wykonaniu zespołu Dreszcz Blues Band\, któremu towarzyszyć będzie Suwalska Orkiestra Kameralna pod dyrekcją Kazimierza Dąbrowskiego. To połączenie bluesowej energii z brzmieniem orkiestry kameralnej zapowiada niezwykłe muzyczne przeżycie. \nDreszcz Blues Band powstał w 2003 roku w Suwałkach. W swoim repertuarze posiada obszerny materiał obejmujący znane utwory Nalepy i Kubasińskiej\, a także autorskie kompozycje z tekstami i muzyką Tomasza Kierejszy. Zespół koncertuje głównie w regionie\, a także był gościem takich festiwali jak Suwałki Blues Festival\, Bliuzo Naktys (Litwa) oraz Bay Car Blues (Francja). \nSkład zespołu:🎤 Tomasz Kierejsza – śpiew\, gitara🎸 Bogdan Topolski – gitara🎹 Krzysztof Filipkowski – instrumenty klawiszowe🎸 Mariusz Panasiewicz – gitara basowa🥁 Paweł Filipkowski – perkusja \nZapraszamy wszystkich miłośników dobrego grania – rozgrzejmy się wspólnie przed kolejną edycją festiwalu! \n24.04.2026\, godz. 19.00\, Sala im. Andrzeja Wajdy\, ul. Papieża Jana Pawła II 5BILETY: https://tiny.pl/yr0x_xzjp
URL:https://sudovianews.pl/wydarzenie/rozgrzewka-sbf-koncert-pamieci-tadeusza-nalepy-dreszcz-blues-band-i-suwalska-orkiestra-kameralna/
LOCATION:Papieża Jana Pawła II 5\, 16-400 Suwałki\, Poland\, Papieża Jana Pawła II 5\, 16-400 Suwałki\, Poland
ATTACH;FMTTYPE=image/jpeg:https://sudovianews.pl/wp-content/uploads/2024/11/sudovia-news-img-1.jpeg
ORGANIZER;CN="Suwalski O%C5%9Brodek Kultury":MAILTO:noreply@facebookmail.com
END:VEVENT
END:VCALENDAR