BEGIN:VCALENDAR
VERSION:2.0
PRODID:-//Sudovia News - wiadomości Suwałki - ECPv6.15.20//NONSGML v1.0//EN
CALSCALE:GREGORIAN
METHOD:PUBLISH
X-WR-CALNAME:Sudovia News - wiadomości Suwałki
X-ORIGINAL-URL:https://sudovianews.pl
X-WR-CALDESC:Wydarzenia dla Sudovia News - wiadomości Suwałki
REFRESH-INTERVAL;VALUE=DURATION:PT1H
X-Robots-Tag:noindex
X-PUBLISHED-TTL:PT1H
BEGIN:VTIMEZONE
TZID:Europe/Warsaw
BEGIN:DAYLIGHT
TZOFFSETFROM:+0100
TZOFFSETTO:+0200
TZNAME:CEST
DTSTART:20230326T010000
END:DAYLIGHT
BEGIN:STANDARD
TZOFFSETFROM:+0200
TZOFFSETTO:+0100
TZNAME:CET
DTSTART:20231029T010000
END:STANDARD
BEGIN:DAYLIGHT
TZOFFSETFROM:+0100
TZOFFSETTO:+0200
TZNAME:CEST
DTSTART:20240331T010000
END:DAYLIGHT
BEGIN:STANDARD
TZOFFSETFROM:+0200
TZOFFSETTO:+0100
TZNAME:CET
DTSTART:20241027T010000
END:STANDARD
BEGIN:DAYLIGHT
TZOFFSETFROM:+0100
TZOFFSETTO:+0200
TZNAME:CEST
DTSTART:20250330T010000
END:DAYLIGHT
BEGIN:STANDARD
TZOFFSETFROM:+0200
TZOFFSETTO:+0100
TZNAME:CET
DTSTART:20251026T010000
END:STANDARD
END:VTIMEZONE
BEGIN:VEVENT
DTSTART;TZID=Europe/Warsaw:20241128T163000
DTEND;TZID=Europe/Warsaw:20241128T173000
DTSTAMP:20260425T042815
CREATED:20241125T111147Z
LAST-MODIFIED:20241125T111147Z
UID:277-1732811400-1732815000@sudovianews.pl
SUMMARY:Nie ma już kina Bałtyk i kina Merkury...
DESCRIPTION:Stowarzyszenie Przyjaciół Suwalszczyzny zaprasza na spotkanie w ramach projektu: „TAK BYŁO. Suwałki drugiej połowy XX wieku zachowane w pamięci zbiorowej mieszkańców” – na temat suwalskich kin\, pt. „Nie ma już kina Bałtyk i kina Merkury…”. \nSpotkanie odbędzie się 28 listopada (w czwartek) o godz. 16.30 w suwalskim Archiwum.
URL:https://sudovianews.pl/wydarzenie/nie-ma-juz-kina-baltyk-i-kina-merkury/
CATEGORIES:Inne
ATTACH;FMTTYPE=image/jpeg:https://sudovianews.pl/wp-content/uploads/2024/11/zaproszenie_tak_bylo2.jpg
END:VEVENT
BEGIN:VEVENT
DTSTART;TZID=Europe/Warsaw:20241130T100000
DTEND;TZID=Europe/Warsaw:20241201T160000
DTSTAMP:20260425T042815
CREATED:20241128T175656Z
LAST-MODIFIED:20241128T180324Z
UID:483-1732960800-1733068800@sudovianews.pl
SUMMARY:Halucynacje równoległe. Kobas Laksa – warsztaty w Suwałkach
DESCRIPTION:Zapraszamy na warsztaty „Halucynacje równoległe” – AI w projektowaniu i procesach kreatywnych fotografii/filmie/pre i postprodukcji. nProwadzący: Kobas Laksa nWarsztaty są bezpłatne. n30.11 – 1.12.2024ngodziny: 10:00 – 16:00nmiejsce: Galeria Sztuki Stara Łaźnia\, ul. A. Wajdy 3\, Suwałki nWymagania:n– wiek min. 15 latn– własny komputer (najlepiej laptop) z dostępem do internetu oraz zainstalowanym pakietem Adobe (przede wszystkim programy Photoshop oraz Premiere Pro – mogą być wersje trial)n– podstawowe umiejętności obsługi w/w programów nLiczba miejsc ograniczona\, decyduje kolejność zgłoszeń. nWarsztaty są nieodpłatne. nChęć uczestnictwa w warsztatach należy zgłosić drogą mailową na adres: projekty@soksuwalki.eu nnnnKobas Laksa – artysta sztuk wizualnych\, reżyser\, wykładowca\, 2d / 3d / AI designer\, pasjonat generatywnych technologii AI w dziedzinach wykorzystujących narrację wizualną i sztuczną inteligencję. Absolwent Uniwersytetu Artystycznego w Poznaniu (malarstwo . grafika / rzeźba) i Wajda School (reżyseria\, scenariusz) W Warszawie oraz PWSTiF w Łodzi na kierunku Zarządzanie Postprodukcją n“Wykłady prowadzę w taki sposób\, żeby uczestnik czuł się częścią procesów dziejących się na żywo tu i teraz. Zaplanowany wcześniej przebieg modyfikowany jest w zależności od poziomu wiedzy uczestników\, ich stopnia zaangażowania\, pasji i zainteresowań.” nnPartnerem warsztatów jest Fundacja Rozwoju Podlaskiej Kinematografii „Bardzo dziki wschód”. nProjekt współfinansowany z środków Państwowego Instytutu Sztuki Filmowej
URL:https://sudovianews.pl/wydarzenie/halucynacje-rownolegle-kobas-laksa-warsztaty-w-suwalkach/
CATEGORIES:Inne
END:VEVENT
END:VCALENDAR